BEGIN:VCALENDAR
VERSION:2.0
PRODID:-//Bierton Parish Council - ECPv5.9.1//NONSGML v1.0//EN
CALSCALE:GREGORIAN
METHOD:PUBLISH
X-WR-CALNAME:Bierton Parish Council
X-ORIGINAL-URL:https://www.biertonvillage.org.uk
X-WR-CALDESC:Events for Bierton Parish Council
BEGIN:VTIMEZONE
TZID:Europe/London
BEGIN:DAYLIGHT
TZOFFSETFROM:+0000
TZOFFSETTO:+0100
TZNAME:BST
DTSTART:20230326T010000
END:DAYLIGHT
BEGIN:STANDARD
TZOFFSETFROM:+0100
TZOFFSETTO:+0000
TZNAME:GMT
DTSTART:20231029T010000
END:STANDARD
END:VTIMEZONE
BEGIN:VEVENT
DTSTART;TZID=Europe/London:20230428T140000
DTEND;TZID=Europe/London:20230428T170000
DTSTAMP:20260422T143143
CREATED:20230424T113804Z
LAST-MODIFIED:20230424T113804Z
UID:3914-1682690400-1682701200@www.biertonvillage.org.uk
SUMMARY:Councillor's Advice Surgery
DESCRIPTION:
URL:https://www.biertonvillage.org.uk/event/councillors-advice-surgery/
LOCATION:Jubilee Hall\, Aylesbury Road\, Bierton\, Buckinghamshire\, HP22 5DL
END:VEVENT
END:VCALENDAR