BEGIN:VCALENDAR
VERSION:2.0
PRODID:-//Bierton Parish Council - ECPv5.9.1//NONSGML v1.0//EN
CALSCALE:GREGORIAN
METHOD:PUBLISH
X-WR-CALNAME:Bierton Parish Council
X-ORIGINAL-URL:https://www.biertonvillage.org.uk
X-WR-CALDESC:Events for Bierton Parish Council
BEGIN:VTIMEZONE
TZID:Europe/London
BEGIN:DAYLIGHT
TZOFFSETFROM:+0000
TZOFFSETTO:+0100
TZNAME:BST
DTSTART:20230326T010000
END:DAYLIGHT
BEGIN:STANDARD
TZOFFSETFROM:+0100
TZOFFSETTO:+0000
TZNAME:GMT
DTSTART:20231029T010000
END:STANDARD
END:VTIMEZONE
BEGIN:VEVENT
DTSTART;TZID=Europe/London:20230918T190000
DTEND;TZID=Europe/London:20230918T200000
DTSTAMP:20260422T143913
CREATED:20230424T115229Z
LAST-MODIFIED:20230424T115229Z
UID:3924-1695063600-1695067200@www.biertonvillage.org.uk
SUMMARY:Parish Council Meeting
DESCRIPTION:
URL:https://www.biertonvillage.org.uk/event/parish-council-meeting-7/
LOCATION:Jubilee Hall\, Aylesbury Road\, Bierton\, Buckinghamshire\, HP22 5DL
END:VEVENT
END:VCALENDAR